BEGIN:VCALENDAR
VERSION:2.0
PRODID:-//Forest Health Watch - ECPv6.15.13.1//NONSGML v1.0//EN
CALSCALE:GREGORIAN
METHOD:PUBLISH
X-WR-CALNAME:Forest Health Watch
X-ORIGINAL-URL:https://foresthealth.org
X-WR-CALDESC:Events for Forest Health Watch
REFRESH-INTERVAL;VALUE=DURATION:PT1H
X-Robots-Tag:noindex
X-PUBLISHED-TTL:PT1H
BEGIN:VTIMEZONE
TZID:America/Los_Angeles
BEGIN:DAYLIGHT
TZOFFSETFROM:-0800
TZOFFSETTO:-0700
TZNAME:PDT
DTSTART:20200308T100000
END:DAYLIGHT
BEGIN:STANDARD
TZOFFSETFROM:-0700
TZOFFSETTO:-0800
TZNAME:PST
DTSTART:20201101T090000
END:STANDARD
BEGIN:DAYLIGHT
TZOFFSETFROM:-0800
TZOFFSETTO:-0700
TZNAME:PDT
DTSTART:20210314T100000
END:DAYLIGHT
BEGIN:STANDARD
TZOFFSETFROM:-0700
TZOFFSETTO:-0800
TZNAME:PST
DTSTART:20211107T090000
END:STANDARD
BEGIN:DAYLIGHT
TZOFFSETFROM:-0800
TZOFFSETTO:-0700
TZNAME:PDT
DTSTART:20220313T100000
END:DAYLIGHT
BEGIN:STANDARD
TZOFFSETFROM:-0700
TZOFFSETTO:-0800
TZNAME:PST
DTSTART:20221106T090000
END:STANDARD
END:VTIMEZONE
BEGIN:VEVENT
DTSTART;TZID=America/Los_Angeles:20210409T110000
DTEND;TZID=America/Los_Angeles:20210409T120000
DTSTAMP:20260421T040609
CREATED:20210203T084859Z
LAST-MODIFIED:20210203T101124Z
UID:2339-1617966000-1617969600@foresthealth.org
SUMMARY:iNaturalist Training - Forest Health Watch Community Office Hours - April
DESCRIPTION:Have questions about using the iNaturalist platform? We’re here to help! Join us during this Community Office Hour to learn more about using the iNaturalist platform and troubleshoot any of your issues. \nThese Office Hours will be hosted through Microsoft Teams. Please note\, you do not a MS Teams account to join\, but you may need to download the MS Teams software. Register below and a link to the meeting will be emailed to you. \n\n\n  \n\n\n\n\n  \n    \n      \n        \n          \n            Your Name*\n              Enter your full name \n            \n          \n        \n      \n      \n        \n          \n            Your Email*\n              Enter a valid email \n            \n          \n        \n      \n      \n        \n          \n            Your Organization\n              Please list your organization\, otherwise please indicate 'public'. \n            \n          \n        \n      \n    \n    \n      \n        \n          \n            Comment\n              Do you have any comments or feedback for the organizers? \n            \n          \n        \n      \n      \n        \n          \n            Take away\n              What do you hope to learn or take away from this event?  \n            \n          \n        \n      \n      \n        \n          \n            \n               \n            \n          \n        \n      \n    \n  \nΔ
URL:https://foresthealth.org/event/inaturalist-training-forest-health-watch-community-office-hours-3/
CATEGORIES:Community Office Hour
ATTACH;FMTTYPE=image/jpeg:https://foresthealth.org/wp-content/uploads/2020/10/IMG_0401-1.jpeg
END:VEVENT
BEGIN:VEVENT
DTSTART;TZID=America/Los_Angeles:20210413T110000
DTEND;TZID=America/Los_Angeles:20210413T120000
DTSTAMP:20260421T040609
CREATED:20210203T095614Z
LAST-MODIFIED:20210203T100552Z
UID:2393-1618311600-1618315200@foresthealth.org
SUMMARY:Questions and Answers Session - Forest Health Watch Community Office Hour - April
DESCRIPTION:Join us in a session to ask questions and learn about the Forest Health Watch program. Share your perspective about forest health issues in the region\, community engagement\, or anything else relevant. Anyone is welcome! \nThese Office Hours will be hosted through Microsoft Teams. Please note\, you do not a MS Teams account to join\, but you may need to download the MS Teams software. Register below and a link to the meeting will be emailed to you. \n\n\n  \n\n\n\n\n  \n    \n      \n        \n          \n            Your Name*\n              Enter your full name \n            \n          \n        \n      \n      \n        \n          \n            Your Email*\n              Enter a valid email \n            \n          \n        \n      \n      \n        \n          \n            Your Organization\n              Please list your organization\, otherwise please indicate 'public'. \n            \n          \n        \n      \n    \n    \n      \n        \n          \n            Comment\n              Do you have any comments or feedback for the organizers? \n            \n          \n        \n      \n      \n        \n          \n            Take away\n              What do you hope to learn or take away from this session?  \n            \n          \n        \n      \n      \n        \n          \n            \n               \n            \n          \n        \n      \n    \n  \nΔ
URL:https://foresthealth.org/event/questions-and-answers-session-forest-health-watch-community-office-hour-april/
CATEGORIES:Community Office Hour
ATTACH;FMTTYPE=image/jpeg:https://foresthealth.org/wp-content/uploads/2020/11/14361493634_a98e0d55c6_k.jpg
END:VEVENT
BEGIN:VEVENT
DTSTART;TZID=America/Los_Angeles:20210419T130000
DTEND;TZID=America/Los_Angeles:20210419T140000
DTSTAMP:20260421T040609
CREATED:20210324T203544Z
LAST-MODIFIED:20210324T204110Z
UID:2891-1618837200-1618840800@foresthealth.org
SUMMARY:Tribal Community Office Hours (for tribal members) - Forest Health Discussions - April
DESCRIPTION:These meetings are hosted specifically for tribes and tribal members. We will be available to listen and discuss any plant health issues every third Monday of the month. We welcome any teachings and feedback\, and we will do our best to listen and help combine our knowledge to find solutions. \nNo registration required\, but participants will need to download the Microsoft Teams software or app to join. Please contact us if you have any questions or feedback.
URL:https://foresthealth.org/event/tribes-april/
LOCATION:Online – Microsoft Teams Meeting
CATEGORIES:Community Office Hour
ATTACH;FMTTYPE=image/jpeg:https://foresthealth.org/wp-content/uploads/2021/03/IMG_2864-1.jpeg
END:VEVENT
END:VCALENDAR