BEGIN:VCALENDAR
VERSION:2.0
PRODID:-//Forest Health Watch - ECPv6.15.13.1//NONSGML v1.0//EN
CALSCALE:GREGORIAN
METHOD:PUBLISH
X-WR-CALNAME:Forest Health Watch
X-ORIGINAL-URL:https://foresthealth.org
X-WR-CALDESC:Events for Forest Health Watch
REFRESH-INTERVAL;VALUE=DURATION:PT1H
X-Robots-Tag:noindex
X-PUBLISHED-TTL:PT1H
BEGIN:VTIMEZONE
TZID:America/Los_Angeles
BEGIN:DAYLIGHT
TZOFFSETFROM:-0800
TZOFFSETTO:-0700
TZNAME:PDT
DTSTART:20210314T100000
END:DAYLIGHT
BEGIN:STANDARD
TZOFFSETFROM:-0700
TZOFFSETTO:-0800
TZNAME:PST
DTSTART:20211107T090000
END:STANDARD
BEGIN:DAYLIGHT
TZOFFSETFROM:-0800
TZOFFSETTO:-0700
TZNAME:PDT
DTSTART:20220313T100000
END:DAYLIGHT
BEGIN:STANDARD
TZOFFSETFROM:-0700
TZOFFSETTO:-0800
TZNAME:PST
DTSTART:20221106T090000
END:STANDARD
BEGIN:DAYLIGHT
TZOFFSETFROM:-0800
TZOFFSETTO:-0700
TZNAME:PDT
DTSTART:20230312T100000
END:DAYLIGHT
BEGIN:STANDARD
TZOFFSETFROM:-0700
TZOFFSETTO:-0800
TZNAME:PST
DTSTART:20231105T090000
END:STANDARD
END:VTIMEZONE
BEGIN:VEVENT
DTSTART;TZID=America/Los_Angeles:20221005T120000
DTEND;TZID=America/Los_Angeles:20221005T130000
DTSTAMP:20260419T221550
CREATED:20220117T230208Z
LAST-MODIFIED:20220117T230208Z
UID:5902-1664971200-1664974800@foresthealth.org
SUMMARY:iNaturalist 'How To' - Community Office Hours - October
DESCRIPTION:Have questions about using the iNaturalist platform? We’re here to help! Join us during this Community Office Hour to learn more about using iNaturalist and troubleshoot any of your issues. \nThese Office Hours will be hosted through Microsoft Teams. Please note\, you do not a MS Teams account to join\, but you may need to download the MS Teams software. Register below and a link to the meeting will be emailed to you. \nMicrosoft Teams meeting\nJoin on your computer or mobile app\nClick here to join the meeting\nLearn More | Meeting options
URL:https://foresthealth.org/event/inaturalist-how-to-community-office-hours-october-2022/
LOCATION:Online – MS Teams
CATEGORIES:Community Office Hour
ATTACH;FMTTYPE=image/jpeg:https://foresthealth.org/wp-content/uploads/2020/10/IMG_0401-1.jpeg
END:VEVENT
BEGIN:VEVENT
DTSTART;TZID=America/Los_Angeles:20221011T120000
DTEND;TZID=America/Los_Angeles:20221011T130000
DTSTAMP:20260419T221550
CREATED:20220117T194539Z
LAST-MODIFIED:20220117T194539Z
UID:5868-1665489600-1665493200@foresthealth.org
SUMMARY:Forest Health Q&A  - Community Office Hour - October
DESCRIPTION:Have questions about forest health? Want to learn more about the Forest Health Watch program? \nJoin us during this office hour to ask questions and learn about the issues affecting forests in the Pacific Northwest. Share your perspective about forest health issues in the region\, community engagement\, or anything else. Anyone is welcome! \nThese Office Hours will be hosted through Microsoft Teams. Please note\, you do not a MS Teams account to join\, but you may need to download the MS Teams software. Register below and a link to the meeting will be emailed to you. \nMicrosoft Teams meeting\nJoin on your computer or mobile app\nClick here to join the meeting\nLearn More | Meeting options
URL:https://foresthealth.org/event/forest-health-qa-community-office-hour-october-2022/
LOCATION:Online – MS Teams
CATEGORIES:Community Office Hour
ATTACH;FMTTYPE=image/jpeg:https://foresthealth.org/wp-content/uploads/2020/11/14361493634_a98e0d55c6_k.jpg
END:VEVENT
BEGIN:VEVENT
DTSTART;TZID=America/Los_Angeles:20221017T130000
DTEND;TZID=America/Los_Angeles:20221017T140000
DTSTAMP:20260419T221550
CREATED:20220118T015247Z
LAST-MODIFIED:20220118T015247Z
UID:5925-1666011600-1666015200@foresthealth.org
SUMMARY:Tribal Community Office Hours (for tribal members) - October
DESCRIPTION:These meetings are hosted specifically for tribes and tribal members. We will be available to listen and discuss any plant health issues every third Monday of the month. We welcome any teachings and feedback\, and we will do our best to listen and amplify voices and brainstorm how we can help find solutions. \nNo registration required\, but participants may need to have or download the Microsoft Teams software or app to join. Please contact us if you have any questions or feedback. \nMicrosoft Teams meeting\nJoin on your computer or mobile app\nClick here to join the meeting\nLearn More | Meeting options \n 
URL:https://foresthealth.org/event/tribal-community-office-hours-for-tribal-members-october-2022/
LOCATION:Online – Microsoft Teams Meeting
CATEGORIES:Community Office Hour
ATTACH;FMTTYPE=image/jpeg:https://foresthealth.org/wp-content/uploads/2021/03/IMG_2864-1.jpeg
END:VEVENT
END:VCALENDAR