BEGIN:VCALENDAR
VERSION:2.0
PRODID:-//Forest Health Watch - ECPv6.15.13.1//NONSGML v1.0//EN
CALSCALE:GREGORIAN
METHOD:PUBLISH
X-ORIGINAL-URL:https://foresthealth.org
X-WR-CALDESC:Events for Forest Health Watch
REFRESH-INTERVAL;VALUE=DURATION:PT1H
X-Robots-Tag:noindex
X-PUBLISHED-TTL:PT1H
BEGIN:VTIMEZONE
TZID:America/Los_Angeles
BEGIN:DAYLIGHT
TZOFFSETFROM:-0800
TZOFFSETTO:-0700
TZNAME:PDT
DTSTART:20200308T100000
END:DAYLIGHT
BEGIN:STANDARD
TZOFFSETFROM:-0700
TZOFFSETTO:-0800
TZNAME:PST
DTSTART:20201101T090000
END:STANDARD
BEGIN:DAYLIGHT
TZOFFSETFROM:-0800
TZOFFSETTO:-0700
TZNAME:PDT
DTSTART:20210314T100000
END:DAYLIGHT
BEGIN:STANDARD
TZOFFSETFROM:-0700
TZOFFSETTO:-0800
TZNAME:PST
DTSTART:20211107T090000
END:STANDARD
BEGIN:DAYLIGHT
TZOFFSETFROM:-0800
TZOFFSETTO:-0700
TZNAME:PDT
DTSTART:20220313T100000
END:DAYLIGHT
BEGIN:STANDARD
TZOFFSETFROM:-0700
TZOFFSETTO:-0800
TZNAME:PST
DTSTART:20221106T090000
END:STANDARD
END:VTIMEZONE
BEGIN:VEVENT
DTSTART;TZID=America/Los_Angeles:20211115T130000
DTEND;TZID=America/Los_Angeles:20211115T140000
DTSTAMP:20260420T180620
CREATED:20210810T003515Z
LAST-MODIFIED:20210810T003700Z
UID:4655-1636981200-1636984800@foresthealth.org
SUMMARY:Tribal Community Office Hours (for tribal members) - Forest Health Discussions - November
DESCRIPTION:These meetings are hosted specifically for tribes and tribal members. We will be available to listen and discuss any plant health issues every third Monday of the month. We welcome any teachings and feedback\, and we will do our best to listen and help combine our knowledge to find solutions. \nNo registration required\, but participants will need to have or download the Microsoft Teams software or app to join. Please contact us if you have any questions or feedback. \nClick here to join!
URL:https://foresthealth.org/event/tribal-community-office-hours-for-tribal-members-forest-health-discussions-november/
LOCATION:Online – Microsoft Teams Meeting
CATEGORIES:Community Office Hour
ATTACH;FMTTYPE=image/jpeg:https://foresthealth.org/wp-content/uploads/2021/03/IMG_2864-1.jpeg
END:VEVENT
END:VCALENDAR