BEGIN:VCALENDAR
VERSION:2.0
PRODID:-//Forest Health Watch - ECPv6.15.13.1//NONSGML v1.0//EN
CALSCALE:GREGORIAN
METHOD:PUBLISH
X-ORIGINAL-URL:https://foresthealth.org
X-WR-CALDESC:Events for Forest Health Watch
REFRESH-INTERVAL;VALUE=DURATION:PT1H
X-Robots-Tag:noindex
X-PUBLISHED-TTL:PT1H
BEGIN:VTIMEZONE
TZID:America/Los_Angeles
BEGIN:DAYLIGHT
TZOFFSETFROM:-0800
TZOFFSETTO:-0700
TZNAME:PDT
DTSTART:20200308T100000
END:DAYLIGHT
BEGIN:STANDARD
TZOFFSETFROM:-0700
TZOFFSETTO:-0800
TZNAME:PST
DTSTART:20201101T090000
END:STANDARD
BEGIN:DAYLIGHT
TZOFFSETFROM:-0800
TZOFFSETTO:-0700
TZNAME:PDT
DTSTART:20210314T100000
END:DAYLIGHT
BEGIN:STANDARD
TZOFFSETFROM:-0700
TZOFFSETTO:-0800
TZNAME:PST
DTSTART:20211107T090000
END:STANDARD
BEGIN:DAYLIGHT
TZOFFSETFROM:-0800
TZOFFSETTO:-0700
TZNAME:PDT
DTSTART:20220313T100000
END:DAYLIGHT
BEGIN:STANDARD
TZOFFSETFROM:-0700
TZOFFSETTO:-0800
TZNAME:PST
DTSTART:20221106T090000
END:STANDARD
END:VTIMEZONE
BEGIN:VEVENT
DTSTART;TZID=America/Los_Angeles:20211203T110000
DTEND;TZID=America/Los_Angeles:20211203T120000
DTSTAMP:20260420T163106
CREATED:20210810T002048Z
LAST-MODIFIED:20210810T002048Z
UID:4640-1638529200-1638532800@foresthealth.org
SUMMARY:iNaturalist Training - Forest Health Watch Community Office Hours - December
DESCRIPTION:Have questions about using the iNaturalist platform? We’re here to help! Join us during this Community Office Hour to learn more about using the iNaturalist platform and troubleshoot any of your issues. \nThese Office Hours will be hosted through Microsoft Teams. Please note\, you do not a MS Teams account to join\, but you may need to download the MS Teams software. Register below and a link to the meeting will be emailed to you. \n\n\n  \n\n\n\n\n  \n    \n      \n        \n          \n            Your Name*\n              Enter your full name \n            \n          \n        \n      \n      \n        \n          \n            Your Email*\n              Enter a valid email \n            \n          \n        \n      \n      \n        \n          \n            Your Organization\n              Please list your organization\, otherwise please indicate 'public'. \n            \n          \n        \n      \n      \n        \n          \n            Training Event**September 3\, 12:00pmOctober 1\, 12:00pmNovember 5\, 12:00pmDecember 3\, 12:00pm\n               \n            \n          \n        \n      \n    \n    \n      \n        \n          \n            Comment\n              Do you have any comments or feedback for the organizers? \n            \n          \n        \n      \n      \n        \n          \n            Take away\n              What do you hope to learn or take away from this event?  \n            \n          \n        \n      \n      \n        \n          \n            \n               \n            \n          \n        \n      \n    \n  \nΔ
URL:https://foresthealth.org/event/inaturalist-training-forest-health-watch-community-office-hours-december/
CATEGORIES:Community Office Hour
ATTACH;FMTTYPE=image/jpeg:https://foresthealth.org/wp-content/uploads/2020/10/IMG_0401-1.jpeg
END:VEVENT
END:VCALENDAR