BEGIN:VCALENDAR
VERSION:2.0
PRODID:-//Forest Health Watch - ECPv6.15.13.1//NONSGML v1.0//EN
CALSCALE:GREGORIAN
METHOD:PUBLISH
X-WR-CALNAME:Forest Health Watch
X-ORIGINAL-URL:https://foresthealth.org
X-WR-CALDESC:Events for Forest Health Watch
REFRESH-INTERVAL;VALUE=DURATION:PT1H
X-Robots-Tag:noindex
X-PUBLISHED-TTL:PT1H
BEGIN:VTIMEZONE
TZID:America/Los_Angeles
BEGIN:DAYLIGHT
TZOFFSETFROM:-0800
TZOFFSETTO:-0700
TZNAME:PDT
DTSTART:20210314T100000
END:DAYLIGHT
BEGIN:STANDARD
TZOFFSETFROM:-0700
TZOFFSETTO:-0800
TZNAME:PST
DTSTART:20211107T090000
END:STANDARD
BEGIN:DAYLIGHT
TZOFFSETFROM:-0800
TZOFFSETTO:-0700
TZNAME:PDT
DTSTART:20220313T100000
END:DAYLIGHT
BEGIN:STANDARD
TZOFFSETFROM:-0700
TZOFFSETTO:-0800
TZNAME:PST
DTSTART:20221106T090000
END:STANDARD
BEGIN:DAYLIGHT
TZOFFSETFROM:-0800
TZOFFSETTO:-0700
TZNAME:PDT
DTSTART:20230312T100000
END:DAYLIGHT
BEGIN:STANDARD
TZOFFSETFROM:-0700
TZOFFSETTO:-0800
TZNAME:PST
DTSTART:20231105T090000
END:STANDARD
END:VTIMEZONE
BEGIN:VEVENT
DTSTART;TZID=America/Los_Angeles:20221213T120000
DTEND;TZID=America/Los_Angeles:20221213T130000
DTSTAMP:20260419T203126
CREATED:20220117T194654Z
LAST-MODIFIED:20220117T194654Z
UID:5866-1670932800-1670936400@foresthealth.org
SUMMARY:Forest Health Q&A  - Community Office Hour - December
DESCRIPTION:Have questions about forest health? Want to learn more about the Forest Health Watch program? \nJoin us during this office hour to ask questions and learn about the issues affecting forests in the Pacific Northwest. Share your perspective about forest health issues in the region\, community engagement\, or anything else. Anyone is welcome! \nThese Office Hours will be hosted through Microsoft Teams. Please note\, you do not a MS Teams account to join\, but you may need to download the MS Teams software. Register below and a link to the meeting will be emailed to you. \nMicrosoft Teams meeting\nJoin on your computer or mobile app\nClick here to join the meeting\nLearn More | Meeting options
URL:https://foresthealth.org/event/forest-health-qa-community-office-hour-december-2022/
LOCATION:Online – MS Teams
CATEGORIES:Community Office Hour
ATTACH;FMTTYPE=image/jpeg:https://foresthealth.org/wp-content/uploads/2020/11/14361493634_a98e0d55c6_k.jpg
END:VEVENT
END:VCALENDAR